BEGIN:VCALENDAR
CALSCALE:GREGORIAN
METHOD:PUBLISH
PRODID:-//IT-On.NET//bielefeld.jetzt//DE
VERSION:2.0
BEGIN:VEVENT
CLASS:PUBLIC
CREATED:20260421T144450Z
DESCRIPTION:https://www.bielefeld.jetzt/node/1081260\n\nJohannes und Emma
 Pinneberg\, genannt Lämmchen\, sind ein junges\, frisch   \nverheiratetes
 Paar in Erwartung ihres ersten Kindes und immer wieder   \noptimistisch\,
 obwohl die Zeiten schwierig sind. Von Ducherow\, wo Pinneberg   \nseine
 Anstellung als Buchhalter verlor\, geht es nach Berlin. Denn dort winkt  
 \neine Stelle als Verkäufer für Herrenkonfektion. Doch das
 geringfügige   \nGehalt ist selbst für das Nötigste\, für Wohnung
 und Essen\, zu knapp. Und   \nwas wird\, wenn der kleine Murkel erst da
 ist\, dem es nun erst recht gut gehen   \nsoll? Der Umsatzdruck für
 Pinneberg ist groß. Bei Nichterfüllung der   \nVerkaufsquote droht die
 Entlassung. Die Angst vor dem sozialen Abstieg wird   \nreal.
 \nBerührend und warmherzig beschreibt Hans Fallada am Beispiel der
 Pinnebergs   \ndas Abrutschen des Mittelstands in Zeiten von Inflation und
 Wirtschaftskrise   \n1932. In dieser rauen Zeit kamen ein Jahr später die
 Nationalsozialisten an   \ndie Macht. Dagegen setzt Fallada ein Plädoyer
 für Menschlichkeit\,   \nZusammenhalt und Liebe in Zeiten von Knappheit
 und sozialer Kälte. \nHier geht es zur Spotify-Playlist zum Stück. [1]
 \n \n \n[1]
 https://open.spotify.com/playlist/0OFTz2EipfIuAzlKfnuv0h?si=5eed375e95a74e7f
 \n(Stand: 21.04.2026)
DTEND:20260505T194000Z
DTSTAMP:20250611T231501Z
DTSTART:20260505T173000Z
GEO:52.020500;8.534900
LAST-MOD:20260207T001501Z
LOCATION:Stadttheater
STATUS:CONFIRMED
SUMMARY:Kleiner Mann\, was nun?
TRANSP:OPAQUE
UID:1118003
URL:https://www.bielefeld.jetzt/node/1081260
END:VEVENT
END:VCALENDAR
