BEGIN:VCALENDAR
CALSCALE:GREGORIAN
METHOD:PUBLISH
PRODID:-//IT-On.NET//bielefeld.jetzt//DE
VERSION:2.0
BEGIN:VEVENT
CLASS:PUBLIC
CREATED:20260424T103237Z
DESCRIPTION:https://www.bielefeld.jetzt/node/1466182\n\nEs können viele
 seltene Pflanzen und Insekten beobachtet und die spannende   \nGeschichte
 der Ochsenheide entdeckt werden. In Kooperation mit der Biostation  
 \nGütersloh/Bielefeld und dem Naturwissenschaftlichen Verein Bielefeld \n
 \n(Stand: 24.04.2026)
DTEND:20260603T170000Z
DTSTAMP:20251219T103943Z
DTSTART:20260603T150000Z
LAST-MOD:20251219T103943Z
STATUS:CONFIRMED
SUMMARY:Naturhistorische Wanderung rund um die Ochsenheide
TRANSP:OPAQUE
UID:1466183
URL:https://www.bielefeld.jetzt/node/1466182
END:VEVENT
END:VCALENDAR
