BEGIN:VCALENDAR
CALSCALE:GREGORIAN
METHOD:PUBLISH
PRODID:-//IT-On.NET//bielefeld.jetzt//DE
VERSION:2.0
BEGIN:VEVENT
CLASS:PUBLIC
CREATED:20260423T184847Z
DESCRIPTION:https://www.bielefeld.jetzt/node/1468301\n\nUnter dem Titel
 Never Dared to Dream begegnen sich die deutsch-iranische   \nMusikerin
 Mina Richman und die Bielefelder Philharmoniker an einem   \ngemeinsamen
 Abend in der Rudolf-Oetker-Halle und präsentieren eine Auswahl   \naus
 dem musikalischen Werk der Wahlbielefelderin und ihrer Band im neuen  
 \nGewand. \nEin in Erfüllung gehender Lebenstraum\, der Pop und Soul mit 
  \nOrchesterklängen verschmelzen lässt. Freuen Sie sich auf einen Abend
 voller   \nAuthentizität\, Intimität und Lebensfreude.  \n \n(Stand:
 23.04.2026)
DTEND:20270224T210000Z
DTSTAMP:20251220T001501Z
DTSTART:20270224T190000Z
GEO:52.027900;8.513150
LAST-MOD:20251220T001501Z
LOCATION:Rudolf-Oetker-Halle
STATUS:CONFIRMED
SUMMARY:Never Dared to Dream
TRANSP:OPAQUE
UID:1468302
URL:https://www.bielefeld.jetzt/node/1468301
END:VEVENT
END:VCALENDAR
