BEGIN:VCALENDAR
CALSCALE:GREGORIAN
METHOD:PUBLISH
PRODID:-//IT-On.NET//bielefeld.jetzt//DE
VERSION:2.0
BEGIN:VEVENT
CLASS:PUBLIC
CREATED:20260421T144431Z
DESCRIPTION:https://www.bielefeld.jetzt/node/1508423\n\nTANZtastisch
 entführt das Publikum in einen glanzvollen Tanzabend auf der   \nBühne
 des Theaters Bielefeld. Die Schülerinnen der Theaterballettschule  
 \npräsentieren mit Eleganz\, Ausdruck und Leidenschaft die Früchte  
 \nmonatelangen Trainings und intensiver Probenarbeit. Choreografien der  
 \nDozentinnen der Theaterballettschule sowie besondere Überraschungen und
   \nhochkarätige Gastauftritte machen diesen Abend zu einem
 unvergesslichen   \nErlebnis. \nFreuen Sie sich auf einen wahrhaft
 TANZtastischen Abend voller Magie\,   \nBewegung und Emotion. \n \n(Stand:
 21.04.2026)
DTEND:20260523T163000Z
DTSTAMP:20260109T001501Z
DTSTART:20260523T143000Z
GEO:52.020500;8.534900
LAST-MOD:20260402T231501Z
LOCATION:Stadttheater
STATUS:CONFIRMED
SUMMARY:TANZtastisch
TRANSP:OPAQUE
UID:1508424
URL:https://www.bielefeld.jetzt/node/1508423
END:VEVENT
END:VCALENDAR
