BEGIN:VCALENDAR
CALSCALE:GREGORIAN
METHOD:PUBLISH
PRODID:-//IT-On.NET//bielefeld.jetzt//DE
VERSION:2.0
BEGIN:VEVENT
CLASS:PUBLIC
CREATED:20260420T175312Z
DESCRIPTION:https://www.bielefeld.jetzt/node/1520644\n\nDUO
 STIEHLER/LUCACIU STEHEN FÜR EINE EINZIGARTIGE FUSION. \nKlassik trifft
 auf Jazz\, Comedy auf Pop – Musik zwischen dem Mut zum  
 \nAugenschließen und Durchdrehen im Sitzen. Nach einer ausverkauften
 Tournee   \n2024 und der erfolgreichen Zusammenarbeit mit dem MDR
 Sinfonieorchester   \npräsentiert das Duo Stiehler/ Lucaciu in diesem
 Jahr ihr neues Live Album   \naus den renommiertesten Tonstudios der Welt:
 den Abbey Road Studios in   \nLondon. Aufgenommen und produziert von
 Grammy Gewinner John Barrett. \nSascha Stiehler (Klavier\, Synthesizer)
 und Antonio Lucaciu (Saxofon\, Gesang)   \nlernten sich vor über 21
 Jahren bei einem Jugend-Musikwettbewerb kennen und   \nsind seitdem nicht
 nur musikalisch beste Freunde. \nDie beiden Leipziger sind zwei der
 renommiertesten Musiker der Deutschen   \nSzene\, spielten mit
 Musik-Größen wie Clueso\, Daniel Hope\, Max Prosa\, Elif   \noder
 Günther „Baby“ Sommer und traten in zahlreichen TV Formaten wie den  
 \nTagesthemen\, Inas Nacht oder Late Night Berlin auf. \n(Stand:
 20.04.2026)
DTSTAMP:20260115T005501Z
DTSTART:20270320T190000Z
GEO:52.016034;8.531743
LAST-MOD:20260115T005501Z
LOCATION:Bunker Ulmenwall
STATUS:CONFIRMED
SUMMARY:Duo Stiehler/Lucaciu
TRANSP:OPAQUE
UID:1520645
URL:https://www.bielefeld.jetzt/node/1520644
END:VEVENT
END:VCALENDAR
