BEGIN:VCALENDAR
CALSCALE:GREGORIAN
METHOD:PUBLISH
PRODID:-//IT-On.NET//bielefeld.jetzt//DE
VERSION:2.0
BEGIN:VEVENT
CLASS:PUBLIC
CREATED:20260420T175430Z
DESCRIPTION:https://www.bielefeld.jetzt/node/1221833\n\nFabi Klos & Dr.
 Turid Knaak – SeitenweKKsel LIVE \n \nSeitenweKKsel – LIVE: Dr. Turid
 Knaak & Fabi Klos bringen ihren     \nFußball-Podcast auf die Bühne \n
 \n  \n \nAm 7. Februar 2025 wagen sie den Schritt raus aus dem Studio\,
 rein ins     \nRampenlicht: Mit SeitenweKKsel – LIVE bringen Dr. Turid
 Knaak und Fabi     \nKlos ihren erfolgreichen Podcast erstmals auf die
 Bühne – begleitet von     \neinem Special Guest. \n \n  \n \nImmer im
 Fokus: die unbekannte Seite des Profifußballs. \n \nWas passiert hinter
 den Kulissen eines Milliarden-Geschäfts\, das     \nfasziniert\,
 verbindet – aber auch überfordern kann? \n \nSeit März 2025 widmen
 sich die beiden Ex-Profis in ihrem Podcast den     \nThemen\, die im
 Tagesgeschäft oft untergehen: digitale Gewalt\,     \nMorddrohungen\,
 Spielen unter Schmerzen\, emotionale Ausnahmesituationen –     \nund die
 psychischen Belastungen\, die damit einhergehen. Fußball ist mehr    
 \nals ein Spiel. Doch was passiert\, wenn der Ruhm zur Last wird\, wenn
 der     \nDruck krank macht oder Anfeindungen den Alltag bestimmen? \n
 \n  \n \nEx-Nationalspielerin Dr. Turid Knaak und Arminia-Legende Fabi
 Klos     \nbeleuchten in SeitenweKKsel die Perspektiven und ihre eigenen  
 Erfahrungen\,   \ndie im Rampenlicht oft übersehen werden – und lassen 
  Betroffene\,   \n(Ex-)Profis und Expert*innen offen zu Wort kommen.  
 Unterstützt werden sie   \ndabei im Rahmen der Folgen von Rebecca Knaak\,
   Spielerin bei Manchester City   \nund Stammkraft der deutschen  
 Frauen-Nationalmannschaft. Als studierte   \nPsychologin liefert sie  
 fundierte Einordnungen zu mentaler Gesundheit\,   \nResilienz und den  
 psychologischen Herausforderungen im Hochleistungssport. \n \n  \n
 \nDabei geht es nicht nur um Schattenseiten: Auch die gesellschaftliche  
 Kraft   \ndes Fußballs\, seine verbindende Wirkung und die große Liebe
 zum   Spiel   \nfinden Platz. \n \n  \n \nFolgerichtig feiern Turid und
 Fabi im Februar 2025 ihre Live-Premiere   und   \nladen das Publikum ein\,
 mit ihnen hinter die glänzende Fassade des     \nProfifußballs zu
 blicken. Dort\, wo es persönlich\, ehrlich und bewegend     \nwird –
 und genau dort\, wo Fabi seine gesamte Karriere verbrachte: in    
 \nBielefeld. #Heimspiel \n \n(Stand: 20.04.2026)
DTSTAMP:20260115T005501Z
DTSTART:20270313T190000Z
GEO:52.037200;8.551310
LAST-MOD:20260415T235502Z
LOCATION:Lokschuppen
STATUS:CONFIRMED
SUMMARY:Fabi Klos & Dr. Turid Knaak - SeitenweKKsel LIVE
TRANSP:OPAQUE
UID:1520647
URL:https://www.bielefeld.jetzt/node/1221833
END:VEVENT
END:VCALENDAR
