BEGIN:VCALENDAR
CALSCALE:GREGORIAN
METHOD:PUBLISH
PRODID:-//IT-On.NET//bielefeld.jetzt//DE
VERSION:2.0
BEGIN:VEVENT
CLASS:PUBLIC
CREATED:20260421T144852Z
DESCRIPTION:https://www.bielefeld.jetzt/node/1528832\n\nEs hat sich vieles
 verändert in den letzten Jahren auf der Burg. Man hat   \ngegraben\,
 gesucht\, gebaut und abgerissen. Alte Mauern sind neu aufgetaucht\,  
 \nNeue sähe man am Liebsten im Boden versinken\, Sichtachsen sollen den  
 \nBetrachter leiten\, Ritter Stampfbeton steht auf dem Hof. Vorbei ist die
 Zeit   \nder einfachen Wahrheiten und romantisierenden
 Mittelalterklischees. \nAls Spezialist im Ausgraben von immer neuen
 Erkenntnissen gibt Heinz   \nFlottmann auch Antworten\, die bisher nie in
 Frage gestellt wurden: \n \n * Warum trugen viele Burgbelagerer monatelang
 die gleiche Frisur? \n * Wurde die Burg tatsächlich rondelliert? \n *
 Waren Ritter eigentlich glücklich? \n * Was hat die Lutter mit der
 Entdeckung Amerikas zu tun? \n \nAb dem 17. April heißt es wieder:
 Burgbetrachtung\, Gewölbekontrolle\,   \nTurmbesteigung (wenn die Kraft
 reicht) \nJeweils 18 Uhr / Treffpunkt Burgbrücke \nKarten:
 Tourist-Information\, Wilhelmstraße 3\, Tel. 0521 55 774 777 \nMeistens
 gibt es noch Restkarten direkt vor der Führung \nTermine für
 geschlossene Gruppen nach Vereinbarung 0521 32 15 13
 \nwww.trotz-alledem-theater.de \n \n(Stand: 21.04.2026)
DTEND:20260904T173000Z
DTSTAMP:20260120T221501Z
DTSTART:20260904T160000Z
GEO:52.014900;8.527020
LAST-MOD:20260331T211501Z
LOCATION:Sparrenburg
STATUS:CONFIRMED
SUMMARY:Comedy auf der Burg
TRANSP:OPAQUE
UID:1531047
URL:https://www.bielefeld.jetzt/node/1528832
END:VEVENT
END:VCALENDAR
