BEGIN:VCALENDAR
CALSCALE:GREGORIAN
METHOD:PUBLISH
PRODID:-//IT-On.NET//bielefeld.jetzt//DE
VERSION:2.0
BEGIN:VEVENT
CLASS:PUBLIC
CREATED:20260424T164954Z
DESCRIPTION:https://www.bielefeld.jetzt/node/1545725\n\nNehmt euch Zeit!
 Denn… \nHeins trödelt \nAn einigen wenigen Samstagen im Jahr verwandelt
 sich unser Coworking Space   \n"Heins arbeitet“ in ein Trödel-Paradies!
 \nWer Lust hat zu verkaufen\, kann sich ganz entspannt einen Tisch
 sichern\, oder   \nauch zwei!? Die stehen schon bereit\, ihr bringt nur
 eure Siebensachen mit.   \nKleiderstange & Bügel? Haben wir. Heiß- &
 Kaltgetränke? Natürlich.   \nRundum-sorglos - bei "Heins speist“.
 \nDer passende Musikmix sorgt für den richtigen Beat und bringt euch auf
 die   \nTanzfläche – oder zumindest im Kopf. ✨ \nHungrig bleibt hier
 niemand: Heins speist versorgt euch mit Fingerfood\,   \nwarmen Gerichten
 & kühlen Getränken. 🥂🍿🥨 \nTrödel-Termine: \nSa 07.03
 Kinderflohmarkt \nSa 18.04 Frauenflohmarkt \nSa 13.06 Herrenflohmarkt
 \nAufbau: 8:00 Uhr \nEinlass: 9:00 Uhr \nEnde: 16:00 Uhr \nOrt: Co-Working
 Space bei "Heins arbeitet“ \nEintritt: frei! \nVerkaufsgebühren: \n1
 Tisch (1\,80 m) – 15 € | 2 Tische (3\,60 m)– 29\,50 € | 1  
 \nKleiderstange inkl. 15 Bügel – 10 € \nAlso kommt rum zum Stöbern\,
 Schlürfen & Steppen! \nJetzt zum Trödelmarkt anmelden! 🎟️ \nWir
 freuen uns auf euch und Samstage voller Flohmarkt\, Freude & Kauflaune!  
 \n💛 \n  \n \n(Stand: 24.04.2026)
DTEND:20260613T140000Z
DTSTAMP:20260127T103750Z
DTSTART:20260613T070000Z
GEO:52.025224;8.537030
LAST-MOD:20260127T103750Z
LOCATION:Heins
STATUS:CONFIRMED
SUMMARY:Heins trödelt!
TRANSP:OPAQUE
UID:1545726
URL:https://www.bielefeld.jetzt/node/1545725
END:VEVENT
END:VCALENDAR
