BEGIN:VCALENDAR
CALSCALE:GREGORIAN
METHOD:PUBLISH
PRODID:-//IT-On.NET//bielefeld.jetzt//DE
VERSION:2.0
BEGIN:VEVENT
CLASS:PUBLIC
CREATED:20260421T113826Z
DESCRIPTION:https://www.bielefeld.jetzt/tanzfestival\n\nDie ersten beiden
 Wochen der NRW-Sommerferien stehen in Bielefeld ganz im   \nZeichen des
 zeitgenössischen Tanzes: Rund um die Oetker-Halle und in der  
 \nBielefelder Altstadt verbreiten tanzbegeisterte Menschen eine
 einzigartige   \nFestival-Atmosphäre. \nDas *Tanzfestival Bielefeld*
 kombiniert *qualifizierten Tanz- und   \nChoreographie-Unterricht*
 internationaler Dozentinnen und Dozenten mit   \n*Aufführungen moderner
 Tanzensembles* aus aller Welt. Es spricht Menschen   \nmit
 unterschiedlicher kultureller und tanzfachlicher Vorbildung vom Anfänger 
  \nbis zum Profi an. Das Festival ist in jedem Jahr ein großes Ereignis
 für   \ndie gesamte Region und darüber hinaus ein Anziehungspunkt für  
 \nTanzbegeisterte aus aller Welt. \n \nAnmeldung [1] \n
 \n------------------------------------------------------------------------------
 \nLieber zuschauen als selbst tanzen? Kein Problem: Zusätzlich zu den  
 \nWorkshops gibt es spannende Tanzperformances internationaler
 Tanzkompanien im   \nTOR 6 Theaterhaus und im DansArt-Theater. Zum
 Abschluss gibt es das große   \nFinale in der Rudolf-Oetker-Halle. \n \n
 \n[1] https://www.tanzfestival-bielefeld.de/workshops/anmeldung/ \n(Stand:
 21.04.2026)
DTSTAMP:20260127T110558Z
DTSTART:20260801T183000Z
LAST-MOD:20260311T090648Z
LOCATION:Bielefeld
STATUS:CONFIRMED
SUMMARY:Tanzfestival Bielefeld 
TRANSP:OPAQUE
UID:1545741
URL:https://www.bielefeld.jetzt/tanzfestival
END:VEVENT
END:VCALENDAR
