BEGIN:VCALENDAR
CALSCALE:GREGORIAN
METHOD:PUBLISH
PRODID:-//IT-On.NET//bielefeld.jetzt//DE
VERSION:2.0
BEGIN:VEVENT
CLASS:PUBLIC
CREATED:20260421T104046Z
DESCRIPTION:https://www.bielefeld.jetzt/node/1547815\n\nFührung mit
 Dieter Besserer \nTreffpunkt Tor 2\, Firma Möller Group\, Brockhagener
 Straße\, Bielefeld \nAnmeldung erforderlich bis 15.5.2026 an
 info@hv-ravensberg.de oder 0521   \n333947 \nBegrenzte Teilnehmerzahl
 \nBei Wetterwarnungen findet die Führung nicht statt. Teilnahme auf
 eigene   \nGefahr. \n \n(Stand: 21.04.2026)
DTEND:20260531T140000Z
DTSTAMP:20260128T074758Z
DTSTART:20260531T120000Z
GEO:51.981780;8.478970
LAST-MOD:20260128T074758Z
LOCATION:Bielefeld-Brackwede
STATUS:CONFIRMED
SUMMARY:Führung durch den Kupferhammerpark
TRANSP:OPAQUE
UID:1547816
URL:https://www.bielefeld.jetzt/node/1547815
END:VEVENT
END:VCALENDAR
