BEGIN:VCALENDAR
CALSCALE:GREGORIAN
METHOD:PUBLISH
PRODID:-//IT-On.NET//bielefeld.jetzt//DE
VERSION:2.0
BEGIN:VEVENT
CLASS:PUBLIC
CREATED:20260421T123628Z
DESCRIPTION:https://www.bielefeld.jetzt/node/1254702\n\nIn der
 einstündigen öffentlichen Führung durch die aktuelle  
 \nSonderausstellung erfahren Sie mehr über den ausgestellten Künstler.
 \n \n// Eintritt (7 Euro // ermäßigt 4 Euro // Kinder frei) + 2 Euro \n
 \n// Ohne Anmeldung // Eintrittskarten sind eine Stunde vor Beginn an der
   \nKasse erhältlich \n \n(Stand: 21.04.2026)
DTEND:20260513T160000Z
DTSTAMP:20260129T131709Z
DTSTART:20260513T150000Z
GEO:52.074350;8.441083
LAST-MOD:20260129T131709Z
LOCATION:Museum Peter August Böckstiegel
STATUS:CONFIRMED
SUMMARY:Öffentliche Führung (Sonderausstellung im Museum)
TRANSP:OPAQUE
UID:1550082
URL:https://www.bielefeld.jetzt/node/1254702
END:VEVENT
END:VCALENDAR
