BEGIN:VCALENDAR
CALSCALE:GREGORIAN
METHOD:PUBLISH
PRODID:-//IT-On.NET//bielefeld.jetzt//DE
VERSION:2.0
BEGIN:VEVENT
CLASS:PUBLIC
CREATED:20260424T103237Z
DESCRIPTION:https://www.bielefeld.jetzt/node/1573579\n\nIhre Jobmesse in
 Bielefeld - Eintritt frei! \nFinden Sie Ihren neuen Job beim Karrieretag
 Bielefeld - Location: LENKWERK. \n \nFach- und Führungskräfte\,
 Schüler\, Absolventen\, Quer- und Wiedereinsteiger   \noder Young
 Professionals – auf dem Karrieretag Bielefeld findet jeder   \npassende
 Jobangebote und kann direkt vor Ort mit den Personalverantwortlichen  
 \nder Unternehmen über Einstiegsmöglichkeiten sprechen. Zudem erwartet
 die   \nMessebesucher von 10 bis 17 Uhr ein umfangreiches und kostenloses
 Programm   \nmit hilfreichen Tipps rund um die Themen Job\, Jobsuche\,
 Bewerbung und   \nKarriere. \nDas Programm: \n• CV- und
 Bewerbungsmappen-Check durch Profis. \n• Karrierecoachings durch
 erfahrene Spezialisten. \n• Zahlreiche Vorträge rund um die Themen
 Bewerbung\, Job und Karriere. \n• Top-Speaker:innen zu Gast mit
 themenbezogenen Vorträgen und Workshops. \nKarrieretag Bielefeld.
 Unverbindlich mit den neuen Kollegen in Kontakt kommen   \n- einfacher
 geht Jobsuche nicht. \nWeitere Infos unter:
 https://www.karrieretag.org/bielefeld/ [1] \n \n \n[1]
 https://www.karrieretag.org/bielefeld/ \n(Stand: 24.04.2026)
DTEND:20260610T150000Z
DTSTAMP:20260209T094556Z
DTSTART:20260610T080000Z
GEO:52.028381;8.555190
LAST-MOD:20260209T094556Z
LOCATION:Lenkwerk
STATUS:CONFIRMED
SUMMARY:Karrieretag Bielefeld
TRANSP:OPAQUE
UID:1573580
URL:https://www.bielefeld.jetzt/node/1573579
END:VEVENT
END:VCALENDAR
