BEGIN:VCALENDAR
CALSCALE:GREGORIAN
METHOD:PUBLISH
PRODID:-//IT-On.NET//bielefeld.jetzt//DE
VERSION:2.0
BEGIN:VEVENT
CLASS:PUBLIC
CREATED:20260421T120544Z
DESCRIPTION:https://www.bielefeld.jetzt/node/1575755\n\nBekannt ist er vor
 allem für seine Wortspiele\, Kalauer und Schüttelreime\,   \nstellt der
 französische Wikipedia-Eintrag über Boby Lapointe fest.  
 \nWahrscheinlich der größte Humorist – ohne dabei niveaulos zu sein
 –   \nunter den Chansonniers\, entfaltet sich sein Talent auf Grundlage
 meist   \neinfacher Situationen und Texte. Eher eine Randerscheinung zu
 Lebzeiten\,   \nerlebte Lapointe später zwei fulminante Auferstehungen\,
 die ihn in den Olymp   \nder bekannten Sänger Frankreichs brachte – und
 seine Texte in   \nfranzösische Schulen\, wo man seine Wort-Akrobatik bei
 der Sprach-Analyse   \nschätzt. \n \nDie Texte von Boby Lapointe sind
 teils relativ einfach. Alle Teilnehmenden   \nbekommen die Originaltexte
 und für diesen Abend von allen Liedern   \nentstandene Übersetzungen
 ausgedruckt zum Lesen und Mitnehmen. Französische   \nSprachkenntnisse
 sind vorteilhaft\, aber nicht nötig\, um die Lieder zu   \ngenießen. Wer
 allein Lust auf die \nMusikalität der Sprache hat\, ist hochwillkommen
 – und bringt idealerweise   \njede Menge Neugier auf witzige
 Kompositionen mit! Die Lieder werden   \nerläutert. \n \nDauer: 120
 Minuten (mit 15 Minuten Pause) \nDer Eintritt ist frei\, eine Spende für
 die Unkosten ist willkommen. \n  \n \n(Stand: 21.04.2026)
DTEND:20260529T191500Z
DTSTAMP:20260210T140424Z
DTSTART:20260529T170000Z
GEO:52.023100;8.543340
LAST-MOD:20260210T140424Z
LOCATION:Ravensberger Spinnerei / VHS
STATUS:CONFIRMED
SUMMARY:"T'es plus jolie que jamais" Die Wort-Akrobatik von Bobby
 Lapointe
TRANSP:OPAQUE
UID:1575756
URL:https://www.bielefeld.jetzt/node/1575755
END:VEVENT
END:VCALENDAR
