BEGIN:VCALENDAR
CALSCALE:GREGORIAN
METHOD:PUBLISH
PRODID:-//IT-On.NET//bielefeld.jetzt//DE
VERSION:2.0
BEGIN:VEVENT
CLASS:PUBLIC
CREATED:20260421T122203Z
DESCRIPTION:https://www.bielefeld.jetzt/node/1582637\n\nDas ultimative
 Maigetränk\, ist eine Waldmeister­bowle! Das getrocknete   \nKraut
 verströmt einen feinen Vanille artigen Duft. Außerdem lernen sie noch  
 \nandere dufte Mai­kräuter kennen. \n \nAnmeldung: Heike Dreppenstedt
 Tel. 0521/140731 \nKosten: 15 Euro
 \nKraeuterwanderung-Bielefeld.jimdofree.com \n \n(Stand: 21.04.2026)
DTEND:20260502T143000Z
DTSTAMP:20260213T162308Z
DTSTART:20260502T123000Z
GEO:52.008290;8.516760
LAST-MOD:20260213T162308Z
LOCATION:Bielefeld-Gadderbaum
STATUS:CONFIRMED
SUMMARY:Waldmeister & Co.
TRANSP:OPAQUE
UID:1582638
URL:https://www.bielefeld.jetzt/node/1582637
END:VEVENT
END:VCALENDAR
