BEGIN:VCALENDAR
CALSCALE:GREGORIAN
METHOD:PUBLISH
PRODID:-//IT-On.NET//bielefeld.jetzt//DE
VERSION:2.0
BEGIN:VEVENT
CLASS:PUBLIC
CREATED:20260421T102237Z
DESCRIPTION:https://www.bielefeld.jetzt/node/1586969\n\nVom 28.02. bis
 27.03.2026 \nMit Begeisterung beobachtet Anke Pankoke ihre Umwelt und
 hält den Moment in   \nSkizzen fest\, um sie hinterher farbig neu zu
 interpretieren. \nLassen Sie sich von den farbenfrohen den dynamischen
 Acrylcollagen und   \n-bildern der Serie "Wind! Wasser! Wellen!“
 begeistern. \n \n(Stand: 21.04.2026)
DTEND:20260320T130000Z
DTSTAMP:20260215T161720Z
DTSTART:20260320T090000Z
GEO:52.024039;8.537345
LAST-MOD:20260215T161720Z
LOCATION:Grüner Würfel
STATUS:CONFIRMED
SUMMARY:Wind! Wasser! Wellen!
TRANSP:OPAQUE
UID:1586979
URL:https://www.bielefeld.jetzt/node/1586969
END:VEVENT
END:VCALENDAR
