BEGIN:VCALENDAR
CALSCALE:GREGORIAN
METHOD:PUBLISH
PRODID:-//IT-On.NET//bielefeld.jetzt//DE
VERSION:2.0
BEGIN:VEVENT
CLASS:PUBLIC
CREATED:20260421T104022Z
DESCRIPTION:https://www.bielefeld.jetzt/node/1591372\n\nTauch ein in zwei
 Stunden gemeinsames Mantra und Kirtan singen\, Inspiration   \nund
 Entspannung mit Ananda und Shaktiprem. Let Magic happen.. ✨ \nWarum
 Mantra-Singen so kraftvoll ist \n- beruhigt das Nervensystem \n- öffnet
 das Herz & stärkt Selbstvertrauen \n- bringt dich aus dem Kopf in den
 Körper \n- schafft tiefe Verbindung - mit dir & anderen \n- lässt innere
 Ruhe & Weite entstehen \nDeine Stimme wird zum Anker. Der Klang trägt
 dich nach innen. \nFür alle - ganz ohne Vorerfahrung \nDatum: 20.03.2026
 \nUhrzeit: 18:30 bis 20:30 Uhr \nmit Janina Ananda & Jan Shaktiprem \n
 \n(Stand: 21.04.2026)
DTEND:20260320T193000Z
DTSTAMP:20260217T102216Z
DTSTART:20260320T173000Z
LAST-MOD:20260217T102216Z
LOCATION:Niedernstraße
STATUS:CONFIRMED
SUMMARY:Magic Mantra Circle
TRANSP:OPAQUE
UID:1591373
URL:https://www.bielefeld.jetzt/node/1591372
END:VEVENT
END:VCALENDAR
