BEGIN:VCALENDAR
CALSCALE:GREGORIAN
METHOD:PUBLISH
PRODID:-//IT-On.NET//bielefeld.jetzt//DE
VERSION:2.0
BEGIN:VEVENT
CLASS:PUBLIC
CREATED:20260424T164516Z
DESCRIPTION:https://www.bielefeld.jetzt/node/1591640\n\nDas australische
 Schwesternduo* Charm of Finches* steht für *komplexen   \nFolk-Pop*\, der
 gleichzeitig anmutig und düster-bezaubernd ist. Ihre  
 \ncharakteristischen »blood harmonies« verweben Melancholie und Staunen
 zu   \neinem Klangbild\, das tief berührt und lange nachhallt. \n \nDie
 Schwestern Mabel und Ivy Windred-Wornes tourten in den vergangenen Jahren 
  \nausgiebig durch Großbritannien\, Europa und Kanada. Nach dem
 internationalen   \nErfolg ihres vierten Studioalbums »Marlinchen In The
 Snow« (2024) melden   \nsie sich nun mit ihrer neuen Single *»Meteor«*
 zurück – inspiriert von   \nden Kräften der Natur\, die ein bewegtes
 inneres Universum widerspiegeln.   \nAufgenommen an der Küste Victorias
 und gemischt vom renommierten Produzenten   \nDaniel Ledwell in Kanada\,
 markiert »Meteor« den Auftakt zu einer Reihe   \nneuer
 Veröffentlichungen\, die für 2026 geplant sind.  \n \nCharm of Finches
 wurden mehrfach ausgezeichnet\, darunter mit dem Australian   \nFolk Music
 Award für das beste Folk-Album (2022) sowie dem Music Victoria   \nAward
 für den besten Folk-Act (2021). \n \n  \n \nEröffnet wird der Abend
 durch Alinalin. *Alinalin* ist eine junges   \n*Jazz/Pop-Projekt* aus
 Bielefeld und Osnabrück\, das eigene Songs mit   \nenglischen\, deutschen
 und spanischen Texten spielt und sich im kreativem   \nUmgang mit
 populären Stilmitteln versucht. \n \n  \n \n*Hinweis*: Die
 Publikumskapazität auf der Sparrenburg ist begrenzt. Ab 500   \nPersonen
 werden die »Türen« geschlossen. \n \n(Stand: 24.04.2026)
DTSTAMP:20260218T100823Z
DTSTART:20260617T174500Z
GEO:52.014900;8.527020
LAST-MOD:20260302T114406Z
LOCATION:Sparrenburg
STATUS:CONFIRMED
SUMMARY:Mittwochs auf der Burg: Charm of Finches
TRANSP:OPAQUE
UID:1591641
URL:https://www.bielefeld.jetzt/node/1591640
END:VEVENT
END:VCALENDAR
