BEGIN:VCALENDAR
CALSCALE:GREGORIAN
METHOD:PUBLISH
PRODID:-//IT-On.NET//bielefeld.jetzt//DE
VERSION:2.0
BEGIN:VEVENT
CLASS:PUBLIC
CREATED:20260424T164450Z
DESCRIPTION:https://www.bielefeld.jetzt/node/1591642\n\nFünf Figuren\,
 ein Zirkuswagen\, eine poetische Geschichte: »Andiamo«   \nöffnet die
 Tür zur Welt des fahrenden Volkes. Ein junger Mann zum Mitreisen   \nwird
 gesucht. Und gefunden. Das Kennenlernen entfaltet sich im Spiel –  
 \nimmer in Bewegung\, übermütig und experimentierend. Die
 Darsteller*innen   \nerzählen ihre Geschichten mit leidenschaftlichem
 Einsatz ihres Könnens: mit   \nfliegenden Bällen\, schwebenden
 Musikanten und artistischer Glanzleistung.   \nHöchst kreativ und mit
 wenigen Worten bescheren sie ihrem Publikum magische   \nMomente der
 großen und kleinen Gefühle. \n \nDie Artist*innen erobern lustvoll die
 Bühne\, veranstalten ein unglaubliches   \nChaos\, geben sich ihrem
 Verlangen hin\, lassen Gegenstände ein Eigenleben   \nentwickeln\,
 spielen mit der Schwerkraft\, amüsieren mit feinem Humor\,   \nbegeistern
 mit bezaubernden Klängen\, streiten und versöhnen sich. All das  
 \nfindet vor der einmaligen Kulisse eines Zirkuswagens\, dem rollenden  
 \nHerzstück dieser Theaterwelt\, statt. Das Stück ist ein Spektakel für
 alle   \nSinne – nostalgisch\, lebendig\, herzerwärmend. Ein Moment des
 Innehaltens   \nim ständigen Weiterziehen. \n \n(Stand: 24.04.2026)
DTSTAMP:20260218T102247Z
DTSTART:20260625T180000Z
GEO:52.021457;8.535355
LAST-MOD:20260302T114457Z
LOCATION:Rathausplatz
STATUS:CONFIRMED
SUMMARY:La Poesia: »Andiamo – Auf geht’s!«
TRANSP:OPAQUE
UID:1591643
URL:https://www.bielefeld.jetzt/node/1591642
END:VEVENT
END:VCALENDAR
