BEGIN:VCALENDAR
CALSCALE:GREGORIAN
METHOD:PUBLISH
PRODID:-//IT-On.NET//bielefeld.jetzt//DE
VERSION:2.0
BEGIN:VEVENT
CLASS:PUBLIC
CREATED:20260425T155227Z
DESCRIPTION:https://www.bielefeld.jetzt/node/1591661\n\n*Laura Arend
 *präsentiert ihre neue Kreation *„Iara“*\, die eine  
 \nWeiterentwicklung ihrer künstlerischen Laufbahn markiert. Sie verbindet
   \nklassischen Tanz mit Moderne und entwickelt so einen originellen  
 \nneoklassischen Stil. Seit 2009 erforscht sie in ihren Arbeiten die
 Stärke   \ndes Weiblichen. \n \nDieses Stück erinnert an die Amazonen
 und die feministische Bewegung\, die   \nsich beide dem Kampf für die
 Gleichberechtigung der Geschlechter   \nverschrieben haben. Die
 Choreographin hebt die Beharrlichkeit und   \nWiderstandsfähigkeit der
 Frauen hervor und zeigt\, dass ihr Kampf für   \nEmanzipation\, Epochen
 und Kulturen überdauert. Das Bühnenbild mit seinem   \nSpiel von Licht
 und fragmentierten Raumen verstärkt die Botschaft\, indem es   \neinen
 Dialog zwischen Körper und Raum schafft. \n \nMit diesem eindrucksvollen
 Werk lädt Laura Arend das Publikum zur Reflexion   \nüber die bis heute
 fortbestehenden Machtverhältnisse und   \nGeschlechterstereotype ein und
 entwirft eine engagierte Vision von Identität   \nund Freiheit. \n
 \n*Choreographie: *Laura Arend \n \n*Interpreten:* Catarina Barbosa\,
 Mathilde Plateau\, Miranda Silveira \n \n*Musik: *„La Dernière des
 Amazones“ von Maria-Antonia Walpurgis \n \n*Kostüme: *Peggy Wurth\,
 Geneviève Arend \n \n*Bühnenbild:* Flore Anh Landru \n \n*Lichtdesign:*
 Jean-Yves Beck \n \nDauer ca. 65 Min. \n \n(Stand: 25.04.2026)
DTSTAMP:20260218T105758Z
DTSTART:20260723T183000Z
GEO:52.018800;8.541000
LAST-MOD:20260303T111547Z
LOCATION:Tor 6 Theaterhaus Bielefeld
STATUS:CONFIRMED
SUMMARY:Laboration Art Company – Laura Arend: »Iara«
TRANSP:OPAQUE
UID:1591662
URL:https://www.bielefeld.jetzt/node/1591661
END:VEVENT
END:VCALENDAR
