BEGIN:VCALENDAR
CALSCALE:GREGORIAN
METHOD:PUBLISH
PRODID:-//IT-On.NET//bielefeld.jetzt//DE
VERSION:2.0
BEGIN:VEVENT
CLASS:PUBLIC
CREATED:20260425T155017Z
DESCRIPTION:https://www.bielefeld.jetzt/node/1591646\n\nDas *Area Jeune
 Ballet* besteht aus 20 jungen talentierten Künstler*innen   \naus aller
 Welt im Alter von 18 bis 22 Jahren. Das 2016 gegründete AJB ist   \neine
 Tanzkompanie\, die im Schweizer Genf ansässig ist und von der Dance Area 
  \nFoundation gefördert wird. Mit Produktionen renommierter
 Choreograph*innen   \ntouren die jungen Tänzer*innen regelmäßig durch
 ganz Europa. \n \nDie Performance besteht aus drei Stücken. Gezeigt
 werden die Choreographien   \n*„Kiss and fly“* von Gil Harush\, *„Un
 autre jour“* von Ken Ossola und   \nzum Abschluss *„We will never give
 up“* von Erion Kruja. In ihren   \nStücken entfaltet die Kompanie eine
 Energie\, die den gesamten Raum erfüllt   \n– kraftvoll\, selbst
 bestimmt und empowernd. Die Individualität wird   \nrespektiert und
 geschätzt\, während die eigene Stärke und Präsenz   \ngegenseitig
 inspiriert und beeindruckt. Auch die Hoffnung\, die Willenskraft   \nund
 der Widerstand stehen als Themen im Fokus. In der Gesamtheit entsteht in  
 \nden Stücken der Kompanie eine fast übernatürliche Dynamik. \n
 \n*Choreographie:* Gil Carlos Harush\, Ken Ossola\, Erion Kruja \n
 \n*Interpreten:* Giorgia Albertazzi\, Izaque Andrade\, Elio
 Blum-Vitagliano\,   \nRicardo Cialifi\, Florine Conti-Maraval\, Ginevra
 Enrico\, Eve Evena-Maleval\,   \nGabriele Fiorentini\, Maria Freire
 Govedarević\, Lily Rose Heuzé\, Letizia   \nLelpo\, Isabel Llado
 Mendoza\, Elena Petrone\, Valentina Spendlingwimmer\,   \nJhonata
 Teixeira\, Malo Wurffel \n \n*Repetitorin:* Fernanda Diniz \n \nDauer ca.
 60 Min. \n \n  \n \n(Stand: 25.04.2026)
DTSTAMP:20260218T125543Z
DTSTART:20260719T183000Z
GEO:52.018800;8.541000
LAST-MOD:20260218T135906Z
LOCATION:Tor 6 Theaterhaus Bielefeld
STATUS:CONFIRMED
SUMMARY:Area Jeune Ballet: »Kiss and fly«\, »Un autre jour«\, »We
 will never give up«
TRANSP:OPAQUE
UID:1591680
URL:https://www.bielefeld.jetzt/node/1591646
END:VEVENT
END:VCALENDAR
