BEGIN:VCALENDAR
CALSCALE:GREGORIAN
METHOD:PUBLISH
PRODID:-//IT-On.NET//bielefeld.jetzt//DE
VERSION:2.0
BEGIN:VEVENT
CLASS:PUBLIC
CREATED:20260421T102543Z
DESCRIPTION:https://www.bielefeld.jetzt/node/1591694\n\nEines der
 aktuellen Themen in der allgemeinen gesellschaftlichen Debatte:  
 \nKünstliche Intelligenzen. Wollen Sie mehr darüber erfahren\, was KI  
 \neigentlich ist\, wie sie funktioniert und wie ein verantwortungsvoller
 Umgang   \ndamit aussehen könnte? In diesem Vortrag werden Sie das und
 vieles mehr   \nüber das Thema künstliche Intelligenzen am Beispiel von
 ChatGPT erfahren.   \nDigitale Endgeräte (Handy\, Laptop etc.) dürfen
 gerne mitgebracht werden\,   \nsind aber keine Voraussetzung. \nDieser
 Workshop ist Teil der Eingeloggt!-Woche in Bielefeld. Sie richtet sich  
 \ngezielt an Menschen über 50. In praktischen Workshops lernen Sie\, wie
 Sie   \ndie digitale Technik für sich im Alltag nutzen können\, z. B.
 Basics rund   \nums Smartphone und Tablet\, e-Rezepte\, Nutzung von
 Messenger-Diensten\, aber   \nauch KI-Technologien wie Chat GPT & Co. Vom
 16. bis 22. März 2026 haben Sie   \ndie Möglichkeit\, sich kostenfrei zu
 informieren\, auszutauschen und gemeinsam   \nzu lernen. \n \n(Stand:
 21.04.2026)
DTEND:20260316T134500Z
DTSTAMP:20260218T135349Z
DTSTART:20260316T121500Z
GEO:52.023900;8.535310
LAST-MOD:20260218T135349Z
LOCATION:Wissenswerkstadt Bielefeld
STATUS:CONFIRMED
SUMMARY:ChatGPT und künstliche Intelligenzen im Alltag
TRANSP:OPAQUE
UID:1591695
URL:https://www.bielefeld.jetzt/node/1591694
END:VEVENT
END:VCALENDAR
