BEGIN:VCALENDAR
CALSCALE:GREGORIAN
METHOD:PUBLISH
PRODID:-//IT-On.NET//bielefeld.jetzt//DE
VERSION:2.0
BEGIN:VEVENT
CLASS:PUBLIC
CREATED:20260424T164741Z
DESCRIPTION:https://www.bielefeld.jetzt/node/1591696\n\nDas Kölner
 Lied-Duo bringt Folksongs aus den vielfältigen Kulturen Europas   \nmit:
 Brahms\, Britten und Berio\, Dvorak und De Falla\, Bartok\, Janacek\,  
 \nProkofjef\, Sibelius und Ravel vertonten lust- und kunstvoll die  
 \ntraditionellen Lieder ihrer Nationen. Eingängige Melodien sind in  
 \nimpressionistische Farben getaucht\, die Harmonik ist eindrücklich und 
  \nAnklänge an die Moderne kühn. \n \nNicola Müllers lebt als
 freischaffende Sängerin und Performancekünstlerin   \nin Köln. Am
 Klavier begleitet der Kölner Komponist und Pianist Wilfried   \nMaria
 Danner. \n \n(Stand: 24.04.2026)
DTSTAMP:20260218T135646Z
DTSTART:20260508T180000Z
GEO:52.014186;8.544051
LAST-MOD:20260302T113010Z
LOCATION:Capella Hospitalis
STATUS:CONFIRMED
SUMMARY:The Last Rose Of Summer – ein europäischer Liederabend
TRANSP:OPAQUE
UID:1591697
URL:https://www.bielefeld.jetzt/node/1591696
END:VEVENT
END:VCALENDAR
