BEGIN:VCALENDAR
CALSCALE:GREGORIAN
METHOD:PUBLISH
PRODID:-//IT-On.NET//bielefeld.jetzt//DE
VERSION:2.0
BEGIN:VEVENT
CLASS:PUBLIC
CREATED:20260424T163755Z
DESCRIPTION:https://www.bielefeld.jetzt/node/1591700\n\nIn den Salons des
 frühen 19. Jahrhunderts\, wo exaltierte Virtuosen für das  
 \naufstrebende Bürgertum in den europäischen Kulturzentren Paris und
 Wien   \nspielten\, erlebte die klassische Gitarre eine regelrechte
 Blütezeit. \n \nIn dem vielschichtigen Konzert »La Guitaromanie«
 beleuchtet die   \npreisgekrönte Gitarristin Negin Habibi eine Epoche\,
 in der ihr Instrument   \nsich durch alle Bevölkerungsschichten hinweg
 – vom einfachen Volk bis in   \nhöchste Adelskreise – einer enormen
 Beliebtheit erfreute. Das Publikum   \nerwartet ein Programm voller
 Virtuosität\, Temperament und Romantik mit   \nWerken von unter anderem
 F. Sor\, M. Giuliani und L. Legnani. \n \n(Stand: 24.04.2026)
DTSTAMP:20260218T140558Z
DTSTART:20260515T180000Z
GEO:52.014186;8.544051
LAST-MOD:20260302T113226Z
LOCATION:Capella Hospitalis
STATUS:CONFIRMED
SUMMARY:Negin Habibi: »La Guitaromanie«
TRANSP:OPAQUE
UID:1591701
URL:https://www.bielefeld.jetzt/node/1591700
END:VEVENT
END:VCALENDAR
