BEGIN:VCALENDAR
CALSCALE:GREGORIAN
METHOD:PUBLISH
PRODID:-//IT-On.NET//bielefeld.jetzt//DE
VERSION:2.0
BEGIN:VEVENT
CLASS:PUBLIC
CREATED:20260424T163806Z
DESCRIPTION:https://www.bielefeld.jetzt/node/1591724\n\nDas *Cooperativa
 Ensemble* und das *Ensemble sans sens* begegnen sich im   \nRahmen eines
 speziellen Raumkonzerts. Das Publikum sitzt in der Mitte der   \nBühne\,
 während es verschiedenen Rauminszenierungen\, Kompositionen und  
 \nImprovisationen der Ensembles zuhört. Unter anderem gibt es eine  
 \nmehrkanalige Uraufführung des Cooperativa Ensembles sowie ein Stück
 mit dem   \nberührungslos gesteuerten Wave-O-Tron. Im Fokus bei sans sens
 steht das   \nÜbersetzen von Klang in Emotion\, von Ton in Erinnerung\,
 von Generiertem in   \nGefühltes.  \nZwischen den Stücken begegnen sich
 beide Ensembles in kleineren Besetzungen   \nquer durch den Raum\, bevor
 sie final zusammenwirken. \n \n(Stand: 24.04.2026)
DTSTAMP:20260218T143125Z
DTSTART:20260521T180000Z
GEO:52.018800;8.541000
LAST-MOD:20260218T143125Z
LOCATION:Tor 6 Theaterhaus Bielefeld
STATUS:CONFIRMED
SUMMARY:Cooperativa meets sans sens
TRANSP:OPAQUE
UID:1591725
URL:https://www.bielefeld.jetzt/node/1591724
END:VEVENT
END:VCALENDAR
