BEGIN:VCALENDAR
CALSCALE:GREGORIAN
METHOD:PUBLISH
PRODID:-//IT-On.NET//bielefeld.jetzt//DE
VERSION:2.0
BEGIN:VEVENT
CLASS:PUBLIC
CREATED:20260423T184201Z
DESCRIPTION:https://www.bielefeld.jetzt/node/1596168\n\nMit einer heiteren
 Mischung bekannter Lieder aus den verschiedensten   \nBereichen wie
 Schlager\, Volkslied oder Chanson lädt das Klang!Festival zu   \neinem
 großen gemeinsamen „offenen Singen“ in die Rudolf-Oetker-Halle  
 \nein. Ob klein oder groß\, jung oder alt\, mit der ganzen Familie und
 mehreren   \nGenerationen oder solo: Hier sind alle willkommen\, die Spaß
 und Freude am   \nSingen haben! \n \nTatkräftige Unterstützung gibt es
 beim gemeinsamen Singen von der   \nKlang!Festival Band. \n \nDas Publikum
 kann sich auf einen ganzen Tag im Zeichen des Gesanges freuen. \n
 \n(Stand: 23.04.2026)
DTSTAMP:20260220T120028Z
DTSTART:20260603T133000Z
GEO:52.027900;8.513150
LAST-MOD:20260302T113910Z
LOCATION:Rudolf-Oetker-Halle
STATUS:CONFIRMED
SUMMARY:Sing!Fest: »Gemeinsam!Singen«
TRANSP:OPAQUE
UID:1596169
URL:https://www.bielefeld.jetzt/node/1596168
END:VEVENT
END:VCALENDAR
