BEGIN:VCALENDAR
CALSCALE:GREGORIAN
METHOD:PUBLISH
PRODID:-//IT-On.NET//bielefeld.jetzt//DE
VERSION:2.0
BEGIN:VEVENT
CLASS:PUBLIC
CREATED:20260423T184207Z
DESCRIPTION:https://www.bielefeld.jetzt/node/1596170\n\n*Gemeinsam
 singen\, neue Menschen treffen und Musik erleben – ohne Abo\, ohne  
 \nVerpflichtung\, einfach so.* Ob mit oder ohne Chor- oder Singerfahrung\,
 jung   \noder junggeblieben\, allein oder gemeinsam – alle sind beim
 Sing!Fest   \nwillkommen. \n \nDer *EinTags!Chor* bietet die Möglichkeit
 in die Welt des Chorsingens\, der   \nStimmbildung und des gemeinsamen
 Singens einzutauchen.* *In der   \n*Rudolf-Oetker-Halle*\, einem Ort mit
 großer musikalischer Tradition\,   \nentfalten Stimmen und Chorklang ihre
 besondere Wirkung. Ein Abend. Ein Chor.   \nEin besonderes Klangerlebnis.
 Dies ist das Richtige für alle\, die das   \n(Chor-)Singen lieben. Singen
 macht Spaß\, und es macht glücklich. \n \nInformationen und
 Anmeldemöglichkeiten zu den Veranstaltungen am Vormittag   \nfür Kitas
 und Schulen mit eigenem Programm gibt es unter  
 \nwww.klangfestival-bielefeld.de. \n \n(Stand: 23.04.2026)
DTSTAMP:20260220T120713Z
DTSTART:20260603T170000Z
GEO:52.027900;8.513150
LAST-MOD:20260302T113947Z
LOCATION:Rudolf-Oetker-Halle
STATUS:CONFIRMED
SUMMARY:Sing!Fest: »EinTags!Chor«
TRANSP:OPAQUE
UID:1596171
URL:https://www.bielefeld.jetzt/node/1596170
END:VEVENT
END:VCALENDAR
