BEGIN:VCALENDAR
CALSCALE:GREGORIAN
METHOD:PUBLISH
PRODID:-//IT-On.NET//bielefeld.jetzt//DE
VERSION:2.0
BEGIN:VEVENT
CLASS:PUBLIC
CREATED:20260424T163335Z
DESCRIPTION:https://www.bielefeld.jetzt/node/1596172\n\n»Seit ich ihn
 gesehen« ist ein Liederabend über Sehnsucht\, Liebe\, Schmerz   \nund
 Hoffnung mit dem Liederzyklus »Frauenliebe und -leben« von Robert  
 \nSchumann sowie weiteren Werken romantischer Komponist*innen. Robert
 Schumann   \nkomponierte den Liederzyklus 1840 für seine Frau Clara
 Schumann als   \nHochzeitsgeschenk. Darin wird die Geschichte einer
 innigen\, starken Liebe   \nvertont: Sehnsucht\, Liebe\, Schmerz\, Trauer
 und Hoffnung werden erlebbar.  \n \nZudem sind Werke von Schumanns
 Zeitgenossen\, die sich ebenfalls den Themen   \nLiebe\, Beziehung und
 Partnerschaft widmen\, zu hören. \n \nZwischen den beiden romantischen
 Teilen des Programms erklingt als reizvoller   \nGegensatz das
 Klavierstück »Serenly swarmed« des zeitgenössischen   \nKomponisten
 Ketan Bhatti. \n \nKatharina Adam: Sopran | Djamilija
 Keberlinskaja-Wehmeyer: Klavier \n \n(Stand: 24.04.2026)
DTSTAMP:20260220T121025Z
DTSTART:20260607T160000Z
GEO:52.014186;8.544051
LAST-MOD:20260302T114139Z
LOCATION:Capella Hospitalis
STATUS:CONFIRMED
SUMMARY:Seit ich ihn gesehen
TRANSP:OPAQUE
UID:1596173
URL:https://www.bielefeld.jetzt/node/1596172
END:VEVENT
END:VCALENDAR
