BEGIN:VCALENDAR
CALSCALE:GREGORIAN
METHOD:PUBLISH
PRODID:-//IT-On.NET//bielefeld.jetzt//DE
VERSION:2.0
BEGIN:VEVENT
CLASS:PUBLIC
CREATED:20260420T201028Z
DESCRIPTION:https://www.bielefeld.jetzt/node/1600567\n\nDie Kita
 Ravensberger Regenbogen e.V. lädt zu einem bunten Flohmarkt in den  
 \nGarten der Kita (Erpestraße 11 in Bielefeld-Ummeln) ein. Los geht es ab
 13   \nUhr. Für das leibliche Wohl ist gesorgt: es gibt Waffeln und
 Gegrilltes!  \n \n(Stand: 20.04.2026)
DTEND:20260425T150000Z
DTSTAMP:20260222T093430Z
DTSTART:20260425T110000Z
GEO:51.981780;8.478970
LAST-MOD:20260222T093430Z
LOCATION:Bielefeld-Brackwede
STATUS:CONFIRMED
SUMMARY:Der REGENBOGEN-bunteste Flohmarkt rund ums Kind
TRANSP:OPAQUE
UID:1600568
URL:https://www.bielefeld.jetzt/node/1600567
END:VEVENT
END:VCALENDAR
