BEGIN:VCALENDAR
CALSCALE:GREGORIAN
METHOD:PUBLISH
PRODID:-//IT-On.NET//bielefeld.jetzt//DE
VERSION:2.0
BEGIN:VEVENT
CLASS:PUBLIC
CREATED:20260421T113127Z
DESCRIPTION:https://www.bielefeld.jetzt/node/209012\n\nSitzplätze sind
 vorhanden. \n \n(Stand: 21.04.2026)
DTSTAMP:20260224T105545Z
DTSTART:20260525T160000Z
GEO:51.955700;8.500260
LAST-MOD:20260224T105545Z
LOCATION:Museum Osthusschule
STATUS:CONFIRMED
SUMMARY:Ökumenischer Pfingstgottesdienst
TRANSP:OPAQUE
UID:1605104
URL:https://www.bielefeld.jetzt/node/209012
END:VEVENT
END:VCALENDAR
