BEGIN:VCALENDAR
CALSCALE:GREGORIAN
METHOD:PUBLISH
PRODID:-//IT-On.NET//bielefeld.jetzt//DE
VERSION:2.0
BEGIN:VEVENT
CLASS:PUBLIC
CREATED:20260424T103550Z
DESCRIPTION:https://www.bielefeld.jetzt/node/209023\n\nEeco Rijken Rapp\,
 David Herzel und Bertram Becher laden zum Live-Auftritt in   \nden Garten
 des Museums Osthusschule ein\, um die Gäste mit   \nabwechslungsreicher
 Musik zu begeistern. Sowohl Boogie-Woogie als auch   \nRock´n Roll\, Jazz
 und Blues gehören zu ihrem Repertoire. \n \nSitzplätze sind vorhanden.
 \n \n(Stand: 24.04.2026)
DTSTAMP:20260224T110932Z
DTSTART:20260607T150000Z
GEO:51.955700;8.500260
LAST-MOD:20260224T110932Z
LOCATION:Museum Osthusschule
STATUS:CONFIRMED
SUMMARY:Open-Air-Musik mit "Boogielicious"
TRANSP:OPAQUE
UID:1605115
URL:https://www.bielefeld.jetzt/node/209023
END:VEVENT
END:VCALENDAR
