BEGIN:VCALENDAR
CALSCALE:GREGORIAN
METHOD:PUBLISH
PRODID:-//IT-On.NET//bielefeld.jetzt//DE
VERSION:2.0
BEGIN:VEVENT
CLASS:PUBLIC
CREATED:20260424T103516Z
DESCRIPTION:https://www.bielefeld.jetzt/node/209015\n\nDie beiden
 Schulhäuser sind umgeben von einem herrlichen Garten mit   \nunzähligen
 Rosen\, Staudenbeeten und einem Kräutergarten. Skulpturen lokaler  
 \nKünstler:innen können zwischen den Blumen entdeckt werden. Auch ein  
 \nliebevoll gepflegter Waldlehrpfad ist vorhanden. In einem Bereich vor
 der   \nOsthusschule werden Bienen gehalten. Sitzplätze laden zum
 Ausruhen ein. \n \nFührungen nach Bedarf. \n \n(Stand: 24.04.2026)
DTEND:20260614T160000Z
DTSTAMP:20260224T113817Z
DTSTART:20260614T090000Z
GEO:51.955700;8.500260
LAST-MOD:20260224T113817Z
LOCATION:Museum Osthusschule
STATUS:CONFIRMED
SUMMARY:Natur genießen im Garten des Museums Osthusschule
TRANSP:OPAQUE
UID:1605116
URL:https://www.bielefeld.jetzt/node/209015
END:VEVENT
END:VCALENDAR
