BEGIN:VCALENDAR
CALSCALE:GREGORIAN
METHOD:PUBLISH
PRODID:-//IT-On.NET//bielefeld.jetzt//DE
VERSION:2.0
BEGIN:VEVENT
CLASS:PUBLIC
CREATED:20260426T041259Z
DESCRIPTION:https://www.bielefeld.jetzt/node/209021\n\nDietrich Lemke\,
 Helmut Neuhaus und Wolfgang Pörtner werden mit ihrer  
 \n„Gute-Laune-Musik“ für einen abwechslungsreichen und fröhlichen  
 \nNachmittag sorgen. Neben ihrem weitreichenden musikalischen Repertoire  
 \nunterhalten sie die Zuhörer:innen auch mit kleinen Zwischentexten.  \n
 \nSitzplätze sind vorhanden. Eintritt frei\, Spenden willkommen! \n
 \n(Stand: 26.04.2026)
DTSTAMP:20260224T115818Z
DTSTART:20260905T150000Z
GEO:51.955700;8.500260
LAST-MOD:20260224T115818Z
LOCATION:Museum Osthusschule
STATUS:CONFIRMED
SUMMARY:Open-Air-Musik mit der "Buschkamp-Combo"
TRANSP:OPAQUE
UID:1605120
URL:https://www.bielefeld.jetzt/node/209021
END:VEVENT
END:VCALENDAR
