BEGIN:VCALENDAR
CALSCALE:GREGORIAN
METHOD:PUBLISH
PRODID:-//IT-On.NET//bielefeld.jetzt//DE
VERSION:2.0
BEGIN:VEVENT
CLASS:PUBLIC
CREATED:20260426T041011Z
DESCRIPTION:https://www.bielefeld.jetzt/node/209017\n\nDas Museum ist mit
 allen Gebäuden für Interessierte geöffnet. \n \nFührungen werden nach
 Bedarf angeboten. \n \n(Stand: 26.04.2026)
DTEND:20260913T160000Z
DTSTAMP:20260224T120503Z
DTSTART:20260913T090000Z
GEO:51.955700;8.500260
LAST-MOD:20260224T120503Z
LOCATION:Museum Osthusschule
STATUS:CONFIRMED
SUMMARY:Tag des offenen Denkmals
TRANSP:OPAQUE
UID:1605121
URL:https://www.bielefeld.jetzt/node/209017
END:VEVENT
END:VCALENDAR
