BEGIN:VCALENDAR
CALSCALE:GREGORIAN
METHOD:PUBLISH
PRODID:-//IT-On.NET//bielefeld.jetzt//DE
VERSION:2.0
BEGIN:VEVENT
CLASS:PUBLIC
CREATED:20260421T120319Z
DESCRIPTION:https://www.bielefeld.jetzt/node/1605122\n\nLerne die
 Grundlagen des Stickens und gestalte dir einen Aufnäher\, Anstecker  
 \noder Wandbild. \nGenieße eine Auszeit in gemütlicher Atmosphäre mit
 Limo & Snacks - nur   \nfür dich. \nFür Erwachsene. \nAnmeldung bis zum
 27.04. \n35€ inkl. Material\, Limo & Snacks \n \n(Stand: 21.04.2026)
DTEND:20260502T113000Z
DTSTAMP:20260224T120735Z
DTSTART:20260502T090000Z
GEO:52.053433;8.540606
LAST-MOD:20260224T120735Z
LOCATION:5Eck
STATUS:CONFIRMED
SUMMARY:Sticken
TRANSP:OPAQUE
UID:1605123
URL:https://www.bielefeld.jetzt/node/1605122
END:VEVENT
END:VCALENDAR
