BEGIN:VCALENDAR
CALSCALE:GREGORIAN
METHOD:PUBLISH
PRODID:-//IT-On.NET//bielefeld.jetzt//DE
VERSION:2.0
BEGIN:VEVENT
CLASS:PUBLIC
CREATED:20260421T102238Z
DESCRIPTION:https://www.bielefeld.jetzt/node/1607454\n\nLachen\, Yoga &
 Embodiment als Bildungsurlaub in Bielefeld. \nRaus aus dem Stress\, rein
 in die Leichtigkeit mit Julia Johannsen aus Berlin! \nGerade in sozialen
 und pädagogischen Berufen geben wir viel. Aber wo tanken   \nwir auf? In
 unserer Bildungszeit vom 07. bis 11. April 2026 in Bielefeld   \nlernst
 du\, wie du Lachen\, Yoga und Embodiment als echte Kraftquellen in  
 \ndeinen Arbeitsalltag integrierst. \nWas dich erwartet: \n \n *
 Mikropraktiken für zwischendurch \n * Lachkompetenz und Humor im Beruf \n
 * Yoga-Übungen fürs Büro \n * Strategien für mehr Resilienz und
 Team-Verbindung \n \nDie Fortbildung ist nach dem AWbG NRW als
 Bildungsurlaub anerkannt. Melde   \ndich bis zum 27.03.2026 an!
 \nAnerkannt nach AWbG NRW – perfekt für alle in sozialen Berufen.
 \n💰 170\,00 € \n⏰ Anmeldeschluss: 27.03.2026 \n🔗 Infos &
 Anmeldung: www.kefb.de [1] (oder direkter Link zur Kursnummer  
 \nS20BIBA001) \n📞 0521 528152-0 \nBring wieder mehr Freude in deinen
 Job!  \nMehr Infos zu Julia Johannsen und ihren Kursen auf ihrer
 Webseite:   \nhttps://sensewise.de/ [2] und auf Bildungsurlaub.de [3] \n 
 \n \n \n[1] https://www.kefb.de/ \n[2] https://sensewise.de/ \n[3]
 https://www.bildungsurlaub.de/ \n(Stand: 21.04.2026)
DTEND:20260410T151500Z
DTSTAMP:20260225T095815Z
DTSTART:20260410T080000Z
LAST-MOD:20260225T095815Z
LOCATION:kefb Ostwestfalen
STATUS:CONFIRMED
SUMMARY:Lachen\, Yoga & Embodiment 5-Tage- Bildungsurlaub
TRANSP:OPAQUE
UID:1607458
URL:https://www.bielefeld.jetzt/node/1607454
END:VEVENT
END:VCALENDAR
