BEGIN:VCALENDAR
CALSCALE:GREGORIAN
METHOD:PUBLISH
PRODID:-//IT-On.NET//bielefeld.jetzt//DE
VERSION:2.0
BEGIN:VEVENT
CLASS:PUBLIC
CREATED:20260424T164821Z
DESCRIPTION:https://www.bielefeld.jetzt/node/1607466\n\n*Mowed Meadow ist
 eine interaktive Klanginstallation\, um Lebensräume für   \nInsekten im
 urbanen Raum zu vermitteln. *Ihr Ziel ist es\, auf den   \ngravierenden
 Rückgang der Artenvielfalt aufmerksam zu machen und eine   \nnachhaltige
 Stadtentwicklung zu ermöglichen. Denn Insekten sind wichtig für  
 \nBiodiversität und ein funktionierendes Ökosystem. \n \nMusikalisch
 interpretiert wird die Thematik um 14.00 Uhr von dem Ensemble   \nsans
 sens. Zusätzlich gibt es einen Infostand von der Garten- und  
 \nTierhandlung Riemeier und eine Umfrage\, bei der unter allen
 Teilnehmenden   \nGutscheine für das Lichtwerk Kino verlost werden. \n
 \n(Stand: 24.04.2026)
DTEND:20260704T160000Z
DTSTAMP:20260225T121737Z
DTSTART:20260704T080000Z
GEO:52.023200;8.533360
LAST-MOD:20260302T115057Z
LOCATION:Jahnplatz
STATUS:CONFIRMED
SUMMARY:Mowed Meadow – Sounds of the City
TRANSP:OPAQUE
UID:1607467
URL:https://www.bielefeld.jetzt/node/1607466
END:VEVENT
END:VCALENDAR
