BEGIN:VCALENDAR
CALSCALE:GREGORIAN
METHOD:PUBLISH
PRODID:-//IT-On.NET//bielefeld.jetzt//DE
VERSION:2.0
BEGIN:VEVENT
CLASS:PUBLIC
CREATED:20260424T163942Z
DESCRIPTION:https://www.bielefeld.jetzt/node/1607537\n\n„Maybe a long
 dark night is coming down“ (Warren Ellis\, Nicholas Cave\,   \n2024). \n
 \n„Nur manchmal schiebt der Vorhang der Pupille sich lautlos auf -. Dann
 geht   \nein Bild hinein\, …“ (Rainer Maria Rilke\, 1903). \n \nDie
 musikalische Lesung schlägt eine Brücke über einhundert Jahre hinweg  
 \nund ermöglicht eine Begegnung zweier musikalischer und zugleich
 poetischer   \nStimmen. Stefan Kallmer (Gesang\, Klavier) spielt Songs von
 Nick Cave\, die auf   \nausgewählte Gedichte Rainer Maria Rilkes\,
 rezitiert von Michael Helm\,   \ntreffen. \n \n(Stand: 24.04.2026)
DTSTAMP:20260225T132801Z
DTSTART:20260626T180000Z
GEO:52.014186;8.544051
LAST-MOD:20260225T132801Z
LOCATION:Capella Hospitalis
STATUS:CONFIRMED
SUMMARY:Stefan Kallmer & Michael Helm: »Rilke & Cave – Songs & Lyrik.
 Eine musikalisch-poetische Begegnung«
TRANSP:OPAQUE
UID:1607538
URL:https://www.bielefeld.jetzt/node/1607537
END:VEVENT
END:VCALENDAR
