BEGIN:VCALENDAR
CALSCALE:GREGORIAN
METHOD:PUBLISH
PRODID:-//IT-On.NET//bielefeld.jetzt//DE
VERSION:2.0
BEGIN:VEVENT
CLASS:PUBLIC
CREATED:20260424T164058Z
DESCRIPTION:https://www.bielefeld.jetzt/node/1607541\n\nDer in Deutschland
 lebende Singer-Songwriter *Kevin Rabemanisa * \nmit Wurzeln in Madagaskar
 \n bringt gemeinsam mit seiner Band persönliche Geschichten\,
 musikalische   \nVielfalt und eine spürbare Freude an der Musik auf die
 Bühne. *Als Band   \nverbinden sie soulful Pop\, akustisches Storytelling
 und subtile   \nWorld-Music-Einflüsse zu einem warmen\, zeitgemäßen
 Live-Sound.* \n \nInspiriert von international renommierten
 Künstler*innen wie Tracy Chapman\,   \nJason Mraz oder Stevie Wonder\,
 begann Kevin Rabemanisas musikalische Reise im   \nAlter von 15 Jahren.
 Als geborener Geschichtenerzähler schöpft er seine   \nInspiration aus
 dem Alltag und verwandelt persönliche Erfahrungen in Musik\,   \ndie das
 Publikum auf einer tiefen emotionalen Ebene berührt. Im Zentrum der  
 \nSongs stehen Themen wie Liebe\, Selbstvertrauen\, Zugehörigkeit\,
 Fürsorge und   \ndie stille Kraft\, die den kleinen Momenten des Lebens
 innewohnt. So möchte   \nKevin Rabemanisa Raum für Reflexion\,
 Verbundenheit und Hoffnung schaffen –   \nund den Menschen\, selbst an
 schweren Tagen\, ein Lächeln schenken. \n \nKevin Rabemanisa: Gesang |
 Antonio Risteski: Bassgitarre | Raphael   \nSchweitzer: E-Gitarre |
 Laurenz Wenk: Saxofon | Chris Wirtz: Schlagzeug \n \n  \n \nEröffnet
 wird der Abend durch *Beatwo*. Beatwo ist ein Percussion-Duo aus  
 \nBielefeld und Köln\, das *mit Handpan\, Marimbaphon und weiteren  
 \nSchlagwerkinstrumenten* eigene Klangwelten entstehen lässt. Inspiriert
 von   \nRhythmen\, Klangfarben und Stimmungen verschiedener musikalischer
 Traditionen   \nverweben sie diese Einflüsse zu einer neuen\, offenen
 Klangsprache. Die Musik   \nvon Beatwo lädt dazu ein\, einzutauchen\,
 zuzuhören und sich von den   \nvielschichtigen Resonanzen und Grooves
 tragen zu lassen. \n \n  \n \n*Hinweis*: Die Publikumskapazität auf der
 Sparrenburg ist begrenzt. Ab 500   \nPersonen werden die »Türen«
 geschlossen. \n \n(Stand: 24.04.2026)
DTSTAMP:20260225T133421Z
DTSTART:20260701T174500Z
GEO:52.014900;8.527020
LAST-MOD:20260302T114753Z
LOCATION:Sparrenburg
STATUS:CONFIRMED
SUMMARY:Mittwochs auf der Burg: Kevin Rabemanisa & Band
TRANSP:OPAQUE
UID:1607542
URL:https://www.bielefeld.jetzt/node/1607541
END:VEVENT
END:VCALENDAR
