BEGIN:VCALENDAR
CALSCALE:GREGORIAN
METHOD:PUBLISH
PRODID:-//IT-On.NET//bielefeld.jetzt//DE
VERSION:2.0
BEGIN:VEVENT
CLASS:PUBLIC
CREATED:20260424T164136Z
DESCRIPTION:https://www.bielefeld.jetzt/node/1607544\n\nKurz vor den
 Sommerferien lädt das *Klang!Festival* wieder zu den beliebten  
 \n*»SommerabendTürchen«* in die *Bielefelder Altstadt* und auf den  
 \n*Altstädter Kirchplatz *ein. \nTäglich öffnen sich kleine
 musikalische Türchen und stimmen mit kurzen   \nKonzerten auf einen
 entspannten Sommerabend ein. \n \nDas Publikum darf sich auf ein
 abwechslungsreiches Programm mit Chören\,   \nBands und Ensembles
 unterschiedlichster Stilrichtungen freuen – von Pop und   \nVokalmusik
 bis hin zu besonderen Angeboten für Kinder und Familien. \n \nMit dabei
 sind unter anderem: Young Voices Bielefeld\, KuMu Chor\, Chor!Klang  
 \nFrauenchor\, Minichor und Kinderchor und Ensembles der Musik- und
 Kunstschule   \nBielefeld. Das After Work Singing\, Märchenkonzerte und
 viele weitere   \nmusikalische Highlights bieten Möglichkeiten zum
 Mitsingen und Mitmachen an.   \nSchneiders Biergarten auf dem Altstädter
 Kirchplatz lädt zudem mit Musik   \nzum Verweilen ein. \n \nDas
 ausführliche Programm gibt es unter www.klangfestival-bielefeld.de [1] \n
 \n \n[1] https://www.klangfestival-bielefeld.de \n(Stand: 24.04.2026)
DTSTAMP:20260225T134224Z
DTSTART:20260706T170000Z
GEO:52.020900;8.531730
LAST-MOD:20260225T134224Z
LOCATION:Altstädter Nicolaikirche (ev.)
STATUS:CONFIRMED
SUMMARY:Konzerte Klang!Festival: »SommerabendTürchen«
TRANSP:OPAQUE
UID:1607556
URL:https://www.bielefeld.jetzt/node/1607544
END:VEVENT
END:VCALENDAR
