BEGIN:VCALENDAR
CALSCALE:GREGORIAN
METHOD:PUBLISH
PRODID:-//IT-On.NET//bielefeld.jetzt//DE
VERSION:2.0
BEGIN:VEVENT
CLASS:PUBLIC
CREATED:20260424T163558Z
DESCRIPTION:https://www.bielefeld.jetzt/node/1607561\n\n*Zehn Jahre
 Bielefelder Puppenspiele im Skala-Haus und ebenso lange gelebte  
 \nKulturarbeit*: *Das ist ein Anlass\, der gefeiert werden will.* Seit dem
   \nEinzug des Puppentheaters ins Skala-Haus und der Gründung des Vereins
   \nKulturpunkt Skala im Jahr 2016 ist hier ein lebendiger Ort für
 Kreativität\,   \nBegegnung und kulturellen Austausch entstanden. Dieses
 besondere   \nDoppeljubiläum wird nun mit einem ganzen Festwochenende
 begangen. \n \nBesucher*innen dürfen sich auf ein vielfältiges und
 liebevoll gestaltetes   \nProgramm freuen. Neben *Kaffee und Kuchen* lädt
 ein *Flohmarkt *mit   \naußergewöhnlichen Fundstücken aus dem
 Theaterfundus zum Stöbern ein. Ein   \nweiteres Highlight ist eine
 *Versteigerung *ausgewählter Objekte\, die es so   \nnur an diesem
 Wochenende zu entdecken gibt. Für spielerische Momente sorgt   \nnicht
 nur eine *Bastelecke*\, sondern auch ein *Glücksrad*\, bei dem tolle  
 \nPreise warten. \n \nDas Jubiläumswochenende ist eine Einladung an
 alle\, gemeinsam   \nzurückzublicken\, Erinnerungen zu teilen und die
 kulturelle Vielfalt des   \nSkala-Hauses zu feiern. *Ein Fest für die
 ganze Familie – offen\, bunt und   \nvoller Überraschungen.* \n
 \n(Stand: 24.04.2026)
DTEND:20260705T160000Z
DTSTAMP:20260225T134957Z
DTSTART:20260705T120000Z
GEO:52.024117;8.533943
LAST-MOD:20260302T115201Z
LOCATION:Bielefelder Puppenspiele – Dagmar Selje
STATUS:CONFIRMED
SUMMARY:Tag der offenen Tür – 10 Jahre im Skala-Haus
TRANSP:OPAQUE
UID:1607563
URL:https://www.bielefeld.jetzt/node/1607561
END:VEVENT
END:VCALENDAR
