BEGIN:VCALENDAR
CALSCALE:GREGORIAN
METHOD:PUBLISH
PRODID:-//IT-On.NET//bielefeld.jetzt//DE
VERSION:2.0
BEGIN:VEVENT
CLASS:PUBLIC
CREATED:20260424T163755Z
DESCRIPTION:https://www.bielefeld.jetzt/node/1607564\n\nDas
 Konzertprogramm »Atlas of Strings« begibt sich auf eine musikalische  
 \nReise zwischen Südamerika\, Spanien und Anatolien. Im Mittelpunkt steht
 die   \nklangliche Vielfalt der Gitarrenmusik\, die traditionelle Wurzeln
 mit modernen   \nAusdrucksformen verbindet. Werke aus unterschiedlichen
 Kulturen treffen auf   \nzeitgenössische Arrangements und persönliche
 Interpretationen. Dabei   \nentstehen fließende Übergänge zwischen
 folkloristischen Einflüssen und   \nheutiger Konzertästhetik. Das
 Programm zeigt\, wie sich musikalische   \nTraditionen gegenseitig
 inspirieren und in einem neuen künstlerischen   \nKontext miteinander in
 Dialog treten. \n \n(Stand: 24.04.2026)
DTSTAMP:20260225T135358Z
DTSTART:20260705T160000Z
GEO:52.014186;8.544051
LAST-MOD:20260302T115248Z
LOCATION:Capella Hospitalis
STATUS:CONFIRMED
SUMMARY:Ozan Coskun: »Atlas of Strings«
TRANSP:OPAQUE
UID:1607565
URL:https://www.bielefeld.jetzt/node/1607564
END:VEVENT
END:VCALENDAR
