BEGIN:VCALENDAR
CALSCALE:GREGORIAN
METHOD:PUBLISH
PRODID:-//IT-On.NET//bielefeld.jetzt//DE
VERSION:2.0
BEGIN:VEVENT
CLASS:PUBLIC
CREATED:20260424T163826Z
DESCRIPTION:https://www.bielefeld.jetzt/node/1607570\n\nMit »TROMBONE
 ALONE« präsentiert der Kölner Posaunist und Komponist   \nMatthias
 Muche sein aktuelles Soloprogramm. Als Träger des WDR-Jazzpreises  
 \nkehrt Muche mit diesem Konzert musikalisch zurück nach Bielefeld\, den
 Ort\,   \nin dem er aufgewachsen ist und der ihn geprägt hat. \n \nDie
 Posaune erscheint dabei als Klangkörper\, Resonanzraum und physisches  
 \nGegenüber. Akustische und elektroakustische Erweiterungen –
 Schläuche\,   \nObjekte\, veränderte Luftwege\, Lautsprecher im
 Instrument – führen den   \nKlang ins Innere zurück und öffnen einen
 räumlichen Hörraum. Die Musik   \nentfaltet sich als präzise\,
 körperliche Praxis zwischen Atem\, Raum und   \nAufmerksamkeit\, in der
 Präsenz\, Materialität und das gemeinsame Hören im   \nMittelpunkt
 stehen. \n \n(Stand: 24.04.2026)
DTSTAMP:20260225T140655Z
DTSTART:20260712T160000Z
GEO:52.014186;8.544051
LAST-MOD:20260302T115637Z
LOCATION:Capella Hospitalis
STATUS:CONFIRMED
SUMMARY:Matthias Muche: »TROMBONE ALONE«
TRANSP:OPAQUE
UID:1607571
URL:https://www.bielefeld.jetzt/node/1607570
END:VEVENT
END:VCALENDAR
