BEGIN:VCALENDAR
CALSCALE:GREGORIAN
METHOD:PUBLISH
PRODID:-//IT-On.NET//bielefeld.jetzt//DE
VERSION:2.0
BEGIN:VEVENT
CLASS:PUBLIC
CREATED:20260421T104150Z
DESCRIPTION:https://www.bielefeld.jetzt/node/1609873\n\nRechte
 Gruppierungen arbeiten mit Mythen\, Halbwahrheiten und verzerrten  
 \nErzählungen\, die auf den ersten Blick überzeugend wirken können. In
 diesem   \nWorkshop lernen wir\, diese Narrative zu erkennen und ihre
 Strukturen zu   \ndurchschauen. Gemeinsam entwickeln wir Strategien\, wie
 wir im Alltag – und   \nin den sozialen Netzwerken – selbstbewusst und
 wirksam reagieren können. \n \nReferent: Christian Arendt\,
 Erziehungswissenschaftler\, seit 20 Jahren im   \nBereich der
 Antirassismus- und Antidiskriminierungsarbeit aktiv\,   \nhauptamtlicher
 Mitarbeiter beim AWO Kreisverband Bielefeld e. V. \n \nAnmeldung
 erforderlich: u.dross-gehring@awo-bielefeld.de \n \n(Stand: 21.04.2026)
DTEND:20260328T150000Z
DTSTAMP:20260226T134158Z
DTSTART:20260328T100000Z
GEO:52.024700;8.559200
LAST-MOD:20260226T134158Z
LOCATION:Bielefeld-Mitte
STATUS:CONFIRMED
SUMMARY:Umgang mit Stammtischparolen und rechten Narrativen
TRANSP:OPAQUE
UID:1609874
URL:https://www.bielefeld.jetzt/node/1609873
END:VEVENT
END:VCALENDAR
