BEGIN:VCALENDAR
CALSCALE:GREGORIAN
METHOD:PUBLISH
PRODID:-//IT-On.NET//bielefeld.jetzt//DE
VERSION:2.0
BEGIN:VEVENT
CLASS:PUBLIC
CREATED:20260420T042845Z
DTSTAMP:20260226T152428Z
DTSTART:20260719T090000Z
GEO:52.014165;8.511357
LAST-MOD:20260226T152428Z
LOCATION:Botanischer Garten
STATUS:CONFIRMED
SUMMARY:Saatgut für die Zukunft
TRANSP:OPAQUE
UID:1609893
URL:https://www.bielefeld.jetzt/node/1609892
END:VEVENT
END:VCALENDAR
