BEGIN:VCALENDAR
CALSCALE:GREGORIAN
METHOD:PUBLISH
PRODID:-//IT-On.NET//bielefeld.jetzt//DE
VERSION:2.0
BEGIN:VEVENT
CLASS:PUBLIC
CREATED:20260421T103954Z
DESCRIPTION:https://www.bielefeld.jetzt/node/1609908\n\nZu Beginn des
 Sommersemesters lädt der Fachbereich Gestaltung herzlich zum   \n2.
 Filmfestival "DMX FOR REEL" ins Lichtwerk-Kino im Ravensberger Park ein.
 \nDie Matinee zeigt ein etwa 120-minütiges Programm bestehend aus
 Produktionen   \nvon Studierenden der Studienrichtungen Digital Media and
 Experiment (DMX)\,   \nModedesign\, Kommunikationsdesign und Fotografie
 sowie der Theorie der   \nGestaltung vom Fachbereich Gestaltung der
 Hochschule Bielefeld: Kurzfilme\,   \nAnimationsvideos und
 Virtual-Reality-Produktionen\, die von Studierenden in   \nden Seminaren
 oder als eigenständige Werke erstellt worden sind. Die   \nFilmemacher
 und Filmemacherinnen werden anwesend sein und zwischen den   \nScreenings
 in Kurzinterviews auf der Bühne im Kinosaal vorgestellt werden. \n"DMX
 FOR REEL" ist eine Initiative von DMX-Studierenden und Honorarprofessor  
 \nMarcus Wildelau\, Lehrbeauftragter für Film- und Soundgestaltung\, der
 die   \njungen Filmschaffenden künstlerisch betreut:  „Wir möchten
 mit dem   \nFestival ein interessiertes\, öffentliches Publikum sowie
 auch am Studium der   \nGestaltung interessierte junge Menschen
 gleichermaßen ansprechen\, um ein   \nabwechslungsreiches Kinoerlebnis an
 einem besonderen Ort zu schaffen und die   \nWerke der Studierenden auf
 der großen Leinwand würdigen.” Vor und nach   \ndem Screening wird es
 die Möglichkeit geben\, sich zu Gesprächen im Foyer   \ndes Lichtwerks
 zu begegnen. \nDie fünfköpfige studentische Jury unter der Leitung von
 Bachelorstudentin   \nCharlotte Sülflohn hat aus 51 eingesendeten Filmen
 ein Programm aus 31   \nArbeiten zusammengestellt. Die Jury hat besonderen
 Wert darauf gelegt\, die   \nVielfalt der Kreativität des Fachbereichs
 Gestaltung zu zeigen und in ihrer   \nAuswahl nicht ausschließlich auf
 die inhaltliche und technische Qualität   \nder Filme geachtet\, sondern
 auch auf Ideen und Atmosphären der Filme. So   \nbekommen sowohl
 vollständige Abschlussarbeiten als auch kurze   \nÜbungsprojekte aus
 jüngeren Semestern eine Bühne und zeigen die   \nEntwicklung der
 Studierenden und ihre große Lust am Storytelling. \nAnders als im ersten
 DMX-for-REEL-Festival im Jahr 2024 sind neben   \nKurzfilmen\, Animationen
 und experimentellen Arbeiten zudem einige Foto- und   \nModefilme
 vertreten. Inhaltlich reichen die Formate der gezeigten Arbeiten   \nvon
 komödiantischen Clips über dokumentarische und fiktionale Werke bis hin 
  \nzu tief emotionalen Dramen im Kurzfilmformat. \nAnmeldung:
 \nEintrittskarten können ab April auf der Homepage des Lichtwerk-Kinos  
 \nerworben werden. \n \n(Stand: 21.04.2026)
DTEND:20260426T130000Z
DTSTAMP:20260226T153841Z
DTSTART:20260426T090000Z
GEO:52.022125;8.544558
LAST-MOD:20260226T153841Z
LOCATION:Lichtwerk
STATUS:CONFIRMED
SUMMARY:"DMX FOR REEL": Filmfestival im Lichtwerk-Kino
TRANSP:OPAQUE
UID:1609909
URL:https://www.bielefeld.jetzt/node/1609908
END:VEVENT
END:VCALENDAR
