BEGIN:VCALENDAR
CALSCALE:GREGORIAN
METHOD:PUBLISH
PRODID:-//IT-On.NET//bielefeld.jetzt//DE
VERSION:2.0
BEGIN:VEVENT
CLASS:PUBLIC
CREATED:20260421T115138Z
DESCRIPTION:https://www.bielefeld.jetzt/node/1612176\n\n"Kreativ in
 Sieker" ist eine offene Mal- und Kreativgruppe\, die sich alle 2  
 \nWochen in der Stadtteilküche Sieker zum gemeinsamen Malen trifft. Immer
 in   \nden geraden Kalenderwochen treffen wir uns am Samstag um 10.00 Uhr
 und malen   \nbis 14.00 Uhr. \nGemeinsam in der Freizeit aktiv sein und
 sich kreativ beschäftigen; nach   \ndiesem Motto treffen wir uns.
 Malmaterialien werden meist selbst mitgebracht. \nDas Angebot ist
 kostenlos und offen für alle interessierte Mitbürger*innen. \nDie
 KIS-Gruppe sagt: In der Gruppe macht es mehr Spaß! \n \n(Stand:
 21.04.2026)
DTEND:20260613T120000Z
DTSTAMP:20260227T152837Z
DTSTART:20260613T080000Z
GEO:51.991990;8.606140
LAST-MOD:20260227T152837Z
LOCATION:Bielefeld-Stieghorst
STATUS:CONFIRMED
SUMMARY:Kreativ in Sieker
TRANSP:OPAQUE
UID:1612184
URL:https://www.bielefeld.jetzt/node/1612176
END:VEVENT
END:VCALENDAR
