BEGIN:VCALENDAR
CALSCALE:GREGORIAN
METHOD:PUBLISH
PRODID:-//IT-On.NET//bielefeld.jetzt//DE
VERSION:2.0
BEGIN:VEVENT
CLASS:PUBLIC
CREATED:20260421T120512Z
DESCRIPTION:https://www.bielefeld.jetzt/node/1616678\n\nStöbern Sie bei
 unserem Lagerverkauf am ersten Wochenende eines jeden Monats   \nund
 finden Sie für Ihre Ideen den passenden Stoff: von raumhohen Gardinen  
 \nbis 300cm (auf Wunsch mit Nähservice)\, Möbelstoffe\, Dekostoffe\,  
 \nBekleidungsstoffe\, Outdoorstoffe\, Kissen & Füllungen\, Gobelins\,
 Kunstleder\,   \nFellimitate über Kurzwaren bis zu ostwestfälischen
 Produkten und lokalen   \nGeschenkideen (wie Geschirrtücher\, dekorative
 Kissen\, individualisierbare   \nMetallfiguren & vieles mehr...). \nWir
 helfen Ihnen\, Ihre kreativen Projekte mit dem richtigen Stoff zu  
 \nverwirklichen oder auch ein außergewöhnliches Geschenk zu finden.
 \nAuf Ihren Besuch im Bielefelder Osten freuen sich \nCarola Drolshagen &
 das Stoffkontor Bielefeld-Team \n \n(Stand: 21.04.2026)
DTEND:20260704T120000Z
DTSTAMP:20260301T192942Z
DTSTART:20260704T073000Z
GEO:52.043160;8.615030
LAST-MOD:20260301T192942Z
LOCATION:Bielefeld-Heepen
STATUS:CONFIRMED
SUMMARY:Lagerverkauf für Stoffe & ostwestfälische Geschenke
TRANSP:OPAQUE
UID:1616688
URL:https://www.bielefeld.jetzt/node/1616678
END:VEVENT
END:VCALENDAR
