BEGIN:VCALENDAR
CALSCALE:GREGORIAN
METHOD:PUBLISH
PRODID:-//IT-On.NET//bielefeld.jetzt//DE
VERSION:2.0
BEGIN:VEVENT
CLASS:PUBLIC
CREATED:20260424T163917Z
DESCRIPTION:https://www.bielefeld.jetzt/node/1619017\n\nDas Freifeld
 Festival geht in die nächste Runde. Auch in diesem Jahr   \nverwandeln
 sich das Nr. z. P. und das Ostblock Kulturhaus zu Orten für  
 \nzeitgenössisches Theater\, Performance und Diskurs. Mit einem
 vielschichtigen   \nProgramm\, Aufführungen\, Workshops und
 überraschenden Formaten lädt das   \nFestival dazu ein\, neue
 Perspektiven zu gewinnen und gemeinsam kreative   \nFreiräume zu
 gestalten. Weitere Informationen zum Programm gibt es unter  
 \nwww.freifeld.haus [1] \n \n*Freies Feld – Netzwerk der Freien
 Darstellenden Künste Bielefeld e.V.*   \n*in Kooperation mit der
 Initiative Bielefelder Subkultur e.V.\, dem Nr. z. P.   \nund dem
 Kulturhaus Ostblock* | Gefördert durch das Ministerium für Kultur  
 \nund Wissenschaft des Landes Nordrhein-Westfalen\, das NRW Landesbüro
 Freie   \nDarstellende Künste\, die Stiftung der Sparkasse Bielefeld und
 das Kulturamt   \nBielefeld \n  \n \n \n[1] https://freifeld.haus
 \n(Stand: 23.04.2026)
DTSTAMP:20260302T123346Z
DTSTART:20260710T220000Z
GEO:52.026741;8.528554
LAST-MOD:20260302T123346Z
LOCATION:Nr. z. P.
STATUS:CONFIRMED
SUMMARY:Freifeld Festival
TRANSP:OPAQUE
UID:1619019
URL:https://www.bielefeld.jetzt/node/1619017
END:VEVENT
END:VCALENDAR
