BEGIN:VCALENDAR
CALSCALE:GREGORIAN
METHOD:PUBLISH
PRODID:-//IT-On.NET//bielefeld.jetzt//DE
VERSION:2.0
BEGIN:VEVENT
CLASS:PUBLIC
CREATED:20260420T101428Z
DESCRIPTION:https://www.bielefeld.jetzt/node/1619085\n\nDie Bielefelder
 Künstlerin präsentiert ihre Serie Tastebuds im Brackweder  
 \nRathaus-Pavillon. Die Ausstellung verfolgt eine visuelle Annäherung an 
  \nGeschmack und Farbe. Laura Beermann vereint in ihren Werken zwei  
 \nLeidenschaften: Kochen und bildende Kunst. \n \nAus relevanten Rezepten
 lassen sich Inspiration gewinnen und der   \nAusgangspunkt für die Bilder
 ableiten. Basis ist jeweils ein schriftlich   \nformuliertes Rezept\, das
 Struktur und Idee liefert. Mit jeder Farbschicht   \nreduziert sich der
 Text schrittweise; zurück bleiben Farben und Formen.   \nDadurch entsteht
 eine Transformation von einer Sinneswelt in eine visuelle   \nForm.
 Zutaten verschmelzen in malerischen Gesten zu Kompositionen\, die  
 \nGeschmack erfahrbar machen – mal dicht und saturiert\, mal transparent
 und   \nfließend\, stets in der Intensität der Gerichte. Darüber hinaus
   \nthematisiert die Künstlerin die Gemeinschaftserfahrung des Dinierens.
   \nAuthentische Zutaten\, die Freude am künstlerischen Prozess\, die
 Atmosphäre   \neines Abends und gemeinsames Genießen stehen im Fokus.
 Was am Tisch beginnt\,   \nsetzt sich auf der Leinwand fort – als
 visuelle Erzählung von Geschmack\,   \nErinnerung und Verbundenheit.
 \nBesucht werden kann die Ausstellung vom 9. bis 30. Mai 2026 und ist  
 \ndonnerstags sowie freitags von 16:30-18:30 Uhr\, zudem samstags von
 14-16 Uhr   \ngeöffnet. Die Kunstausstellung wird mit der Vernissage am
 Samstag\, 9. Mai   \n2026\, um 11:00 Uhr\, durch den Bezirksbürgermeister
 Vincenzo Copertino\,   \neröffnet. \nBesucher bringen gern ein Rezept
 mit\, das mit Emotionen oder persönlicher   \nErinnerung verbunden ist.
 Das Motto lautet: Mit allen Sinnen erleben –   \nFarben duften\, Formen
 schmecken – und die Werke erzählen von Genuss und   \nFreude. Ein
 kurzer Sachverhalt oder ein Foto zur Geschichte ist willkommen.   \nDer
 Dialog trägt dazu bei\, die Kunstausstellung zu einem lebendigen Erlebnis
   \nzu machen. \n \n(Stand: 20.04.2026)
DTEND:20260514T163000Z
DTSTAMP:20260302T132441Z
DTSTART:20260514T143000Z
GEO:51.990700;8.506560
LAST-MOD:20260302T132441Z
LOCATION:Brackwede Rathaus-Pavillon
STATUS:CONFIRMED
SUMMARY:Let´s sit down and eat
TRANSP:OPAQUE
UID:1619087
URL:https://www.bielefeld.jetzt/node/1619085
END:VEVENT
END:VCALENDAR
