BEGIN:VCALENDAR
CALSCALE:GREGORIAN
METHOD:PUBLISH
PRODID:-//IT-On.NET//bielefeld.jetzt//DE
VERSION:2.0
BEGIN:VEVENT
CLASS:PUBLIC
CREATED:20260420T101240Z
DTEND:20260510T103000Z
DTSTAMP:20260302T152659Z
DTSTART:20260510T090000Z
GEO:52.014900;8.517240
LAST-MOD:20260302T152659Z
LOCATION:Johannisfriedhof
STATUS:CONFIRMED
SUMMARY:Johannisfriedhof 
TRANSP:OPAQUE
UID:1619148
URL:https://www.bielefeld.jetzt/node/1619147
END:VEVENT
END:VCALENDAR
